BEGIN:VCALENDAR
VERSION:2.0
METHOD:PUBLISH
PRODID:-//Accessible Web Design//My Calendar//http://www.joedolson.com//v//EN';
BEGIN:VEVENT
UID:41-21
LOCATION:
SUMMARY:Disbursement
DTSTAMP:20250416
ORGANIZER;CN=Jonathon Tompkins:MAILTO:jtompkins@ch13cctx.com
DTSTART:20250416
DTEND:20250418
CATEGORIES:General
URL;VALUE=URI:https://www.ch13cctx.com/mc-events/disbursement-18/?mc_id=41
DESCRIPTION:
X-FUNAMBOL-ALLDAY: 1
X-MICROSOFT-CDO-ALLDAYEVENT: TRUE

END:VEVENT
END:VCALENDAR